Package: chromVAR Version: 1.24.0 Command: /home/biocbuild/R/R-4.3.1/bin/R CMD INSTALL chromVAR StartedAt: 2023-11-01 20:36:25 -0000 (Wed, 01 Nov 2023) EndedAt: 2023-11-01 20:38:16 -0000 (Wed, 01 Nov 2023) EllapsedTime: 110.7 seconds RetCode: 0 Status: OK