Package: chromVAR Version: 1.24.0 Command: /Library/Frameworks/R.framework/Resources/bin/R CMD check --install=check:chromVAR.install-out.txt --library=/Library/Frameworks/R.framework/Resources/library --no-vignettes --timings chromVAR_1.24.0.tar.gz StartedAt: 2024-04-16 00:41:32 -0400 (Tue, 16 Apr 2024) EndedAt: 2024-04-16 00:54:15 -0400 (Tue, 16 Apr 2024) EllapsedTime: 763.4 seconds RetCode: 0 Status: OK CheckDir: chromVAR.Rcheck Warnings: 0