Package: chromVAR Version: 1.24.0 Command: /Library/Frameworks/R.framework/Resources/bin/R CMD INSTALL chromVAR StartedAt: 2024-04-15 15:55:01 -0400 (Mon, 15 Apr 2024) EndedAt: 2024-04-15 15:57:32 -0400 (Mon, 15 Apr 2024) EllapsedTime: 150.8 seconds RetCode: 0 Status: OK