Package: chromVAR Version: 1.24.0 Command: rm -rf chromVAR.buildbin-libdir && mkdir chromVAR.buildbin-libdir && F:\biocbuild\bbs-3.18-bioc\R\bin\R.exe CMD INSTALL --build --library=chromVAR.buildbin-libdir chromVAR_1.24.0.tar.gz StartedAt: 2024-04-16 06:48:25 -0400 (Tue, 16 Apr 2024) EndedAt: 2024-04-16 06:50:20 -0400 (Tue, 16 Apr 2024) EllapsedTime: 115.6 seconds RetCode: 0 Status: OK PackageFile: chromVAR_1.24.0.zip PackageFileSize: 1.703 MiB