Package: chromVAR Version: 1.24.0 Command: chmod a+r chromVAR -R && F:\biocbuild\bbs-3.18-bioc\R\bin\R.exe CMD build --keep-empty-dirs --no-resave-data chromVAR StartedAt: 2024-04-15 17:35:41 -0400 (Mon, 15 Apr 2024) EndedAt: 2024-04-15 17:39:21 -0400 (Mon, 15 Apr 2024) EllapsedTime: 219.9 seconds RetCode: 0 Status: OK PackageFile: chromVAR_1.24.0.tar.gz PackageFileSize: 424 KiB