Package: chromVAR Version: 1.24.0 Command: F:\biocbuild\bbs-3.18-bioc\R\bin\R.exe CMD INSTALL chromVAR StartedAt: 2024-04-15 16:13:56 -0400 (Mon, 15 Apr 2024) EndedAt: 2024-04-15 16:15:41 -0400 (Mon, 15 Apr 2024) EllapsedTime: 105.6 seconds RetCode: 0 Status: OK