Package: chromstaR Version: 1.28.0 Command: /home/biocbuild/R/R-4.3.1/bin/R CMD build --keep-empty-dirs --no-resave-data chromstaR StartedAt: 2023-11-01 23:26:45 -0000 (Wed, 01 Nov 2023) EndedAt: 2023-11-01 23:32:55 -0000 (Wed, 01 Nov 2023) EllapsedTime: 370.9 seconds RetCode: 1 Status: ERROR PackageFile: None PackageFileSize: NA