Package: chromstaR Version: 1.28.0 Command: /Library/Frameworks/R.framework/Resources/bin/R CMD check --install=check:chromstaR.install-out.txt --library=/Library/Frameworks/R.framework/Resources/library --no-vignettes --timings chromstaR_1.28.0.tar.gz StartedAt: 2024-03-03 19:37:09 -0500 (Sun, 03 Mar 2024) EndedAt: 2024-03-03 19:45:02 -0500 (Sun, 03 Mar 2024) EllapsedTime: 473.1 seconds RetCode: 0 Status: OK CheckDir: chromstaR.Rcheck Warnings: 0