Package: chromswitch Version: 1.21.1 Command: /home/biocbuild/bbs-3.18-bioc/R/bin/R CMD build --keep-empty-dirs --no-resave-data chromswitch StartedAt: 2023-04-20 04:24:02 -0400 (Thu, 20 Apr 2023) EndedAt: 2023-04-20 04:25:03 -0400 (Thu, 20 Apr 2023) EllapsedTime: 60.5 seconds RetCode: 0 Status: OK PackageFile: chromswitch_1.21.1.tar.gz PackageFileSize: 2.279 MiB