Package: chromswitch Version: 1.21.1 Command: /home/biocbuild/bbs-3.18-bioc/R/bin/R CMD check --install=check:chromswitch.install-out.txt --library=/home/biocbuild/bbs-3.18-bioc/R/site-library --timings chromswitch_1.21.1.tar.gz StartedAt: 2023-04-20 06:43:13 -0400 (Thu, 20 Apr 2023) EndedAt: 2023-04-20 06:48:18 -0400 (Thu, 20 Apr 2023) EllapsedTime: 304.9 seconds RetCode: 0 Status: WARNINGS CheckDir: chromswitch.Rcheck Warnings: 1