Package: circRNAprofiler Version: 1.16.0 Command: /Library/Frameworks/R.framework/Resources/bin/R CMD build --keep-empty-dirs --no-resave-data circRNAprofiler StartedAt: 2024-03-03 16:14:47 -0500 (Sun, 03 Mar 2024) EndedAt: 2024-03-03 16:16:27 -0500 (Sun, 03 Mar 2024) EllapsedTime: 100.3 seconds RetCode: 0 Status: OK PackageFile: circRNAprofiler_1.16.0.tar.gz PackageFileSize: 3.579 MiB