Package: clstutils Version: 1.50.0 Command: /home/biocbuild/R/R-4.3.1/bin/R CMD build --keep-empty-dirs --no-resave-data clstutils StartedAt: 2023-11-01 23:33:26 -0000 (Wed, 01 Nov 2023) EndedAt: 2023-11-01 23:33:41 -0000 (Wed, 01 Nov 2023) EllapsedTime: 15.0 seconds RetCode: 0 Status: OK PackageFile: clstutils_1.50.0.tar.gz PackageFileSize: 2.68 MiB