Package: clstutils Version: 1.50.0 Command: /home/biocbuild/R/R-4.3.1/bin/R CMD check --install=check:clstutils.install-out.txt --library=/home/biocbuild/R/R-4.3.1/site-library --no-vignettes --timings clstutils_1.50.0.tar.gz StartedAt: 2023-11-02 09:20:59 -0000 (Thu, 02 Nov 2023) EndedAt: 2023-11-02 09:22:06 -0000 (Thu, 02 Nov 2023) EllapsedTime: 67.1 seconds RetCode: 0 Status: WARNINGS CheckDir: clstutils.Rcheck Warnings: 1