Package: clstutils Version: 1.50.0 Command: rm -rf clstutils.buildbin-libdir && mkdir clstutils.buildbin-libdir && /Users/biocbuild/BBS/utils/build-universal.sh clstutils_1.50.0.tar.gz /Library/Frameworks/R.framework/Resources/bin/R clstutils.buildbin-libdir StartedAt: 2024-03-04 00:34:36 -0500 (Mon, 04 Mar 2024) EndedAt: 2024-03-04 00:34:44 -0500 (Mon, 04 Mar 2024) EllapsedTime: 7.9 seconds RetCode: 0 Status: OK PackageFile: clstutils_1.50.0.tgz PackageFileSize: 2.726 MiB