Package: clstutils Version: 1.50.0 Command: /Library/Frameworks/R.framework/Resources/bin/R CMD check --install=check:clstutils.install-out.txt --library=/Library/Frameworks/R.framework/Resources/library --no-vignettes --timings clstutils_1.50.0.tar.gz StartedAt: 2024-03-03 19:40:27 -0500 (Sun, 03 Mar 2024) EndedAt: 2024-03-03 19:41:36 -0500 (Sun, 03 Mar 2024) EllapsedTime: 69.1 seconds RetCode: 0 Status: WARNINGS CheckDir: clstutils.Rcheck Warnings: 1