Package: clstutils Version: 1.50.0 Command: /Library/Frameworks/R.framework/Resources/bin/R CMD INSTALL clstutils StartedAt: 2024-03-03 15:11:06 -0500 (Sun, 03 Mar 2024) EndedAt: 2024-03-03 15:11:19 -0500 (Sun, 03 Mar 2024) EllapsedTime: 12.7 seconds RetCode: 0 Status: OK