Package: clustComp Version: 1.30.0 Command: /home/biocbuild/R/R-4.3.1/bin/R CMD INSTALL clustComp StartedAt: 2023-11-01 20:03:48 -0000 (Wed, 01 Nov 2023) EndedAt: 2023-11-01 20:04:07 -0000 (Wed, 01 Nov 2023) EllapsedTime: 18.6 seconds RetCode: 0 Status: OK