Package: clustComp Version: 1.30.0 Command: rm -rf clustComp.buildbin-libdir && mkdir clustComp.buildbin-libdir && /Users/biocbuild/BBS/utils/build-universal.sh clustComp_1.30.0.tar.gz /Library/Frameworks/R.framework/Resources/bin/R clustComp.buildbin-libdir StartedAt: 2024-03-04 00:34:38 -0500 (Mon, 04 Mar 2024) EndedAt: 2024-03-04 00:34:45 -0500 (Mon, 04 Mar 2024) EllapsedTime: 6.8 seconds RetCode: 0 Status: OK PackageFile: clustComp_1.30.0.tgz PackageFileSize: 1014 KiB