Package: clustComp Version: 1.30.0 Command: /Library/Frameworks/R.framework/Resources/bin/R CMD build --keep-empty-dirs --no-resave-data clustComp StartedAt: 2024-03-03 16:16:09 -0500 (Sun, 03 Mar 2024) EndedAt: 2024-03-03 16:17:14 -0500 (Sun, 03 Mar 2024) EllapsedTime: 64.4 seconds RetCode: 0 Status: OK PackageFile: clustComp_1.30.0.tar.gz PackageFileSize: 928.7 KiB