Package: clustComp Version: 1.30.0 Command: rm -rf clustComp.buildbin-libdir && mkdir clustComp.buildbin-libdir && /Users/biocbuild/BBS/utils/build-universal.sh clustComp_1.30.0.tar.gz /Library/Frameworks/R.framework/Resources/bin/R clustComp.buildbin-libdir StartedAt: 2024-04-16 11:17:58 -0400 (Tue, 16 Apr 2024) EndedAt: 2024-04-16 11:18:08 -0400 (Tue, 16 Apr 2024) EllapsedTime: 10.3 seconds RetCode: 0 Status: OK PackageFile: clustComp_1.30.0.tgz PackageFileSize: 1018 KiB