Package: clustComp Version: 1.30.0 Command: /Library/Frameworks/R.framework/Resources/bin/R CMD build --keep-empty-dirs --no-resave-data clustComp StartedAt: 2024-04-15 17:44:23 -0400 (Mon, 15 Apr 2024) EndedAt: 2024-04-15 17:46:08 -0400 (Mon, 15 Apr 2024) EllapsedTime: 105.4 seconds RetCode: 0 Status: OK PackageFile: clustComp_1.30.0.tar.gz PackageFileSize: 931.3 KiB