Package: clustComp Version: 1.30.0 Command: /home/biocbuild/bbs-3.18-bioc/R/bin/R CMD build --keep-empty-dirs --no-resave-data clustComp StartedAt: 2024-04-15 16:30:20 -0400 (Mon, 15 Apr 2024) EndedAt: 2024-04-15 16:31:17 -0400 (Mon, 15 Apr 2024) EllapsedTime: 56.8 seconds RetCode: 0 Status: OK PackageFile: clustComp_1.30.0.tar.gz PackageFileSize: 791.7 KiB