Package: clustComp Version: 1.30.0 Command: /home/biocbuild/bbs-3.18-bioc/R/bin/R CMD check --install=check:clustComp.install-out.txt --library=/home/biocbuild/bbs-3.18-bioc/R/site-library --timings clustComp_1.30.0.tar.gz StartedAt: 2024-04-15 21:17:31 -0400 (Mon, 15 Apr 2024) EndedAt: 2024-04-15 21:19:28 -0400 (Mon, 15 Apr 2024) EllapsedTime: 116.5 seconds RetCode: 0 Status: OK CheckDir: clustComp.Rcheck Warnings: 0