Package: clustComp Version: 1.30.0 Command: rm -rf clustComp.buildbin-libdir && mkdir clustComp.buildbin-libdir && F:\biocbuild\bbs-3.18-bioc\R\bin\R.exe CMD INSTALL --build --library=clustComp.buildbin-libdir clustComp_1.30.0.tar.gz StartedAt: 2024-04-16 06:49:07 -0400 (Tue, 16 Apr 2024) EndedAt: 2024-04-16 06:49:12 -0400 (Tue, 16 Apr 2024) EllapsedTime: 5.1 seconds RetCode: 0 Status: OK PackageFile: clustComp_1.30.0.zip PackageFileSize: 882.3 KiB