Package: clusterProfiler Version: 4.10.0 Command: /home/biocbuild/R/R-4.3.1/bin/R CMD build --keep-empty-dirs --no-resave-data clusterProfiler StartedAt: 2023-11-01 23:34:25 -0000 (Wed, 01 Nov 2023) EndedAt: 2023-11-01 23:35:41 -0000 (Wed, 01 Nov 2023) EllapsedTime: 76.1 seconds RetCode: 0 Status: OK PackageFile: clusterProfiler_4.10.0.tar.gz PackageFileSize: 610.1 KiB