Package: clusterSeq Version: 1.26.0 Command: /Library/Frameworks/R.framework/Resources/bin/R CMD INSTALL clusterSeq StartedAt: 2024-03-03 15:12:03 -0500 (Sun, 03 Mar 2024) EndedAt: 2024-03-03 15:12:25 -0500 (Sun, 03 Mar 2024) EllapsedTime: 21.9 seconds RetCode: 0 Status: OK