Package: clusterSeq Version: 1.26.0 Command: /home/biocbuild/bbs-3.18-bioc/R/bin/R CMD build --keep-empty-dirs --no-resave-data clusterSeq StartedAt: 2024-04-15 16:30:36 -0400 (Mon, 15 Apr 2024) EndedAt: 2024-04-15 16:31:29 -0400 (Mon, 15 Apr 2024) EllapsedTime: 52.9 seconds RetCode: 0 Status: OK PackageFile: clusterSeq_1.26.0.tar.gz PackageFileSize: 1.008 MiB