Package: cnvGSA Version: 1.46.0 Command: /home/biocbuild/R/R-4.3.1/bin/R CMD INSTALL cnvGSA StartedAt: 2023-11-01 20:10:44 -0000 (Wed, 01 Nov 2023) EndedAt: 2023-11-01 20:10:59 -0000 (Wed, 01 Nov 2023) EllapsedTime: 15.0 seconds RetCode: 0 Status: OK