############################################################################## ############################################################################## ### ### Running command: ### ### /home/biocbuild/bbs-3.18-bioc/R/bin/R CMD check --install=check:coMethDMR.install-out.txt --library=/home/biocbuild/bbs-3.18-bioc/R/site-library --timings coMethDMR_1.6.0.tar.gz ### ############################################################################## ############################################################################## * using log directory ‘/home/biocbuild/bbs-3.18-bioc/meat/coMethDMR.Rcheck’ * using R version 4.3.3 (2024-02-29) * using platform: x86_64-pc-linux-gnu (64-bit) * R was compiled by gcc (Ubuntu 11.4.0-1ubuntu1~22.04) 11.4.0 GNU Fortran (Ubuntu 11.4.0-1ubuntu1~22.04) 11.4.0 * running under: Ubuntu 22.04.4 LTS * using session charset: UTF-8 * checking for file ‘coMethDMR/DESCRIPTION’ ... OK * this is package ‘coMethDMR’ version ‘1.6.0’ * package encoding: UTF-8 * checking package namespace information ... OK * checking package dependencies ... OK * checking if this is a source package ... OK * checking if there is a namespace ... OK * checking for hidden files and directories ... OK * checking for portable file names ... OK * checking for sufficient/correct file permissions ... OK * checking whether package ‘coMethDMR’ can be installed ... OK * checking installed package size ... OK * checking package directory ... OK * checking ‘build’ directory ... OK * checking DESCRIPTION meta-information ... OK * checking top-level files ... OK * checking for left-over files ... OK * checking index information ... OK * checking package subdirectories ... OK * checking R files for non-ASCII characters ... OK * checking R files for syntax errors ... OK * checking whether the package can be loaded ... OK * checking whether the package can be loaded with stated dependencies ... OK * checking whether the package can be unloaded cleanly ... OK * checking whether the namespace can be loaded with stated dependencies ... OK * checking whether the namespace can be unloaded cleanly ... OK * checking loading without being on the library search path ... OK * checking startup messages can be suppressed ... OK * checking dependencies in R code ... OK * checking S3 generic/method consistency ... OK * checking replacement functions ... OK * checking foreign function calls ... OK * checking R code for possible problems ... NOTE File ‘coMethDMR/R/zzz.R’: .onLoad calls: packageStartupMessage("Checking for cached SeSAMe data.") packageStartupMessage("Caching SeSAMe data for 450k/EPIC arrays.") See section ‘Good practice’ in '?.onAttach'. * checking Rd files ... OK * checking Rd metadata ... OK * checking Rd cross-references ... OK * checking for missing documentation entries ... OK * checking for code/documentation mismatches ... OK * checking Rd \usage sections ... OK * checking Rd contents ... OK * checking for unstated dependencies in examples ... OK * checking contents of ‘data’ directory ... OK * checking data for non-ASCII characters ... OK * checking data for ASCII and uncompressed saves ... OK * checking files in ‘vignettes’ ... OK * checking examples ... OK Examples with CPU (user + system) or elapsed time > 5s user system elapsed CoMethSingleRegion 29.920 1.180 32.547 CloseBySingleRegion 26.092 1.627 29.295 lmmTest 24.710 1.252 26.958 CpGsInfoOneRegion 18.495 0.508 19.902 SplitCpGDFbyRegion 17.532 0.527 18.866 lmmTestAllRegions 15.749 0.560 16.857 CoMethAllRegions 11.948 0.799 13.041 AnnotateResults 10.781 1.216 12.008 GetCpGsInRegion 11.315 0.171 12.043 CpGsInfoAllRegions 7.037 0.188 7.531 OrderCpGsByLocation 6.048 0.132 6.440 CreateOutputDF 5.744 0.137 6.138 ImportSesameData 5.266 0.100 5.640 * checking for unstated dependencies in ‘tests’ ... OK * checking tests ... Running ‘testthat.R’ OK * checking for unstated dependencies in vignettes ... OK * checking package vignettes in ‘inst/doc’ ... OK * checking running R code from vignettes ... ‘vin1_Introduction_to_coMethDMR_geneBasedPipeline.Rmd’ using ‘UTF-8’... OK ‘vin2_BiocParallel_for_coMethDMR_geneBasedPipeline.Rmd’ using ‘UTF-8’... OK OK * checking re-building of vignette outputs ... OK * checking PDF version of manual ... OK * DONE Status: 1 NOTE See ‘/home/biocbuild/bbs-3.18-bioc/meat/coMethDMR.Rcheck/00check.log’ for details.