Package: coMethDMR Version: 1.6.0 Command: rm -rf coMethDMR.buildbin-libdir && mkdir coMethDMR.buildbin-libdir && F:\biocbuild\bbs-3.18-bioc\R\bin\R.exe CMD INSTALL --build --library=coMethDMR.buildbin-libdir coMethDMR_1.6.0.tar.gz StartedAt: 2024-04-16 06:50:26 -0400 (Tue, 16 Apr 2024) EndedAt: 2024-04-16 06:51:34 -0400 (Tue, 16 Apr 2024) EllapsedTime: 68.8 seconds RetCode: 0 Status: OK PackageFile: coMethDMR_1.6.0.zip PackageFileSize: 3.153 MiB