Package: cogena Version: 1.36.0 Command: chmod a+r cogena -R && F:\biocbuild\bbs-3.18-bioc\R\bin\R.exe CMD build --keep-empty-dirs --no-resave-data cogena StartedAt: 2024-04-15 17:42:17 -0400 (Mon, 15 Apr 2024) EndedAt: 2024-04-15 17:46:00 -0400 (Mon, 15 Apr 2024) EllapsedTime: 223.1 seconds RetCode: 0 Status: OK PackageFile: cogena_1.36.0.tar.gz PackageFileSize: 6.472 MiB