Package: cogena Version: 1.36.0 Command: F:\biocbuild\bbs-3.18-bioc\R\bin\R.exe CMD INSTALL cogena StartedAt: 2024-04-15 16:19:58 -0400 (Mon, 15 Apr 2024) EndedAt: 2024-04-15 16:20:21 -0400 (Mon, 15 Apr 2024) EllapsedTime: 22.5 seconds RetCode: 0 Status: OK