Package: cola Version: 2.8.0 Command: rm -rf cola.buildbin-libdir && mkdir cola.buildbin-libdir && /Users/biocbuild/BBS/utils/build-universal.sh cola_2.8.0.tar.gz /Library/Frameworks/R.framework/Resources/bin/R cola.buildbin-libdir StartedAt: 2024-04-16 11:20:02 -0400 (Tue, 16 Apr 2024) EndedAt: 2024-04-16 11:21:57 -0400 (Tue, 16 Apr 2024) EllapsedTime: 115.3 seconds RetCode: 0 Status: OK PackageFile: cola_2.8.0.tgz PackageFileSize: 4.627 MiB