Package: cola Version: 2.8.0 Command: /Library/Frameworks/R.framework/Resources/bin/R CMD build --keep-empty-dirs --no-resave-data cola StartedAt: 2024-04-15 17:50:11 -0400 (Mon, 15 Apr 2024) EndedAt: 2024-04-15 17:51:34 -0400 (Mon, 15 Apr 2024) EllapsedTime: 83.0 seconds RetCode: 0 Status: OK PackageFile: cola_2.8.0.tar.gz PackageFileSize: 3.658 MiB