Package: cola Version: 2.8.0 Command: /home/biocbuild/bbs-3.18-bioc/R/bin/R CMD build --keep-empty-dirs --no-resave-data cola StartedAt: 2024-04-15 16:33:25 -0400 (Mon, 15 Apr 2024) EndedAt: 2024-04-15 16:34:01 -0400 (Mon, 15 Apr 2024) EllapsedTime: 36.3 seconds RetCode: 0 Status: OK PackageFile: cola_2.8.0.tar.gz PackageFileSize: 3.658 MiB