Package: compartmap Version: 1.20.0 Command: /home/biocbuild/bbs-3.18-bioc/R/bin/R CMD build --keep-empty-dirs --no-resave-data compartmap StartedAt: 2024-04-15 16:34:01 -0400 (Mon, 15 Apr 2024) EndedAt: 2024-04-15 16:35:54 -0400 (Mon, 15 Apr 2024) EllapsedTime: 113.0 seconds RetCode: 0 Status: OK PackageFile: compartmap_1.20.0.tar.gz PackageFileSize: 3.444 MiB