Package: compartmap Version: 1.20.0 Command: F:\biocbuild\bbs-3.18-bioc\R\bin\R.exe CMD check --no-multiarch --install=check:compartmap.install-out.txt --library=F:\biocbuild\bbs-3.18-bioc\R\library --no-vignettes --timings compartmap_1.20.0.tar.gz StartedAt: 2024-04-15 23:33:32 -0400 (Mon, 15 Apr 2024) EndedAt: 2024-04-15 23:39:27 -0400 (Mon, 15 Apr 2024) EllapsedTime: 354.9 seconds RetCode: 0 Status: OK CheckDir: compartmap.Rcheck Warnings: 0