Package: convert Version: 1.78.0 Command: rm -rf convert.buildbin-libdir && mkdir convert.buildbin-libdir && /Users/biocbuild/BBS/utils/build-universal.sh convert_1.78.0.tar.gz /Library/Frameworks/R.framework/Resources/bin/R convert.buildbin-libdir StartedAt: 2024-03-04 00:35:42 -0500 (Mon, 04 Mar 2024) EndedAt: 2024-03-04 00:35:50 -0500 (Mon, 04 Mar 2024) EllapsedTime: 7.8 seconds RetCode: 0 Status: OK PackageFile: convert_1.78.0.tgz PackageFileSize: 182 KiB