Package: copa Version: 1.70.0 Command: /home/biocbuild/R/R-4.3.1/bin/R CMD build --keep-empty-dirs --no-resave-data copa StartedAt: 2023-11-01 23:46:02 -0000 (Wed, 01 Nov 2023) EndedAt: 2023-11-01 23:46:09 -0000 (Wed, 01 Nov 2023) EllapsedTime: 7.0 seconds RetCode: 0 Status: OK PackageFile: copa_1.70.0.tar.gz PackageFileSize: 115.8 KiB