Package: copa Version: 1.70.0 Command: /home/biocbuild/R/R-4.3.1/bin/R CMD check --install=check:copa.install-out.txt --library=/home/biocbuild/R/R-4.3.1/site-library --no-vignettes --timings copa_1.70.0.tar.gz StartedAt: 2023-11-02 09:34:13 -0000 (Thu, 02 Nov 2023) EndedAt: 2023-11-02 09:34:40 -0000 (Thu, 02 Nov 2023) EllapsedTime: 26.9 seconds RetCode: 0 Status: OK CheckDir: copa.Rcheck Warnings: 0