Package: copa Version: 1.70.0 Command: /home/biocbuild/R/R-4.3.1/bin/R CMD INSTALL copa StartedAt: 2023-11-01 20:05:08 -0000 (Wed, 01 Nov 2023) EndedAt: 2023-11-01 20:05:36 -0000 (Wed, 01 Nov 2023) EllapsedTime: 28.6 seconds RetCode: 0 Status: OK