Package: copa Version: 1.70.0 Command: rm -rf copa.buildbin-libdir && mkdir copa.buildbin-libdir && /Users/biocbuild/BBS/utils/build-universal.sh copa_1.70.0.tar.gz /Library/Frameworks/R.framework/Resources/bin/R copa.buildbin-libdir StartedAt: 2024-03-04 00:35:45 -0500 (Mon, 04 Mar 2024) EndedAt: 2024-03-04 00:35:53 -0500 (Mon, 04 Mar 2024) EllapsedTime: 7.8 seconds RetCode: 0 Status: OK PackageFile: copa_1.70.0.tgz PackageFileSize: 158.9 KiB