Package: copa Version: 1.70.0 Command: F:\biocbuild\bbs-3.18-bioc\R\bin\R.exe CMD check --no-multiarch --install=check:copa.install-out.txt --library=F:\biocbuild\bbs-3.18-bioc\R\library --no-vignettes --timings copa_1.70.0.tar.gz StartedAt: 2024-04-15 23:38:37 -0400 (Mon, 15 Apr 2024) EndedAt: 2024-04-15 23:39:14 -0400 (Mon, 15 Apr 2024) EllapsedTime: 36.8 seconds RetCode: 0 Status: OK CheckDir: copa.Rcheck Warnings: 0