Package: covEB Version: 1.28.0 Command: /home/biocbuild/R/R-4.3.1/bin/R CMD build --keep-empty-dirs --no-resave-data covEB StartedAt: 2023-11-01 23:48:26 -0000 (Wed, 01 Nov 2023) EndedAt: 2023-11-01 23:48:49 -0000 (Wed, 01 Nov 2023) EllapsedTime: 23.0 seconds RetCode: 0 Status: OK PackageFile: covEB_1.28.0.tar.gz PackageFileSize: 111.7 KiB