Package: covEB Version: 1.28.0 Command: /home/biocbuild/R/R-4.3.1/bin/R CMD check --install=check:covEB.install-out.txt --library=/home/biocbuild/R/R-4.3.1/site-library --no-vignettes --timings covEB_1.28.0.tar.gz StartedAt: 2023-11-02 09:36:58 -0000 (Thu, 02 Nov 2023) EndedAt: 2023-11-02 09:38:02 -0000 (Thu, 02 Nov 2023) EllapsedTime: 63.5 seconds RetCode: 0 Status: OK CheckDir: covEB.Rcheck Warnings: 0