Package: covEB Version: 1.28.0 Command: rm -rf covEB.buildbin-libdir && mkdir covEB.buildbin-libdir && F:\biocbuild\bbs-3.18-bioc\R\bin\R.exe CMD INSTALL --build --library=covEB.buildbin-libdir covEB_1.28.0.tar.gz StartedAt: 2024-04-16 06:51:39 -0400 (Tue, 16 Apr 2024) EndedAt: 2024-04-16 06:51:52 -0400 (Tue, 16 Apr 2024) EllapsedTime: 12.9 seconds RetCode: 0 Status: OK PackageFile: covEB_1.28.0.zip PackageFileSize: 95.37 KiB