Package: crisprBowtie Version: 1.6.0 Command: /Library/Frameworks/R.framework/Resources/bin/R CMD check --install=check:crisprBowtie.install-out.txt --library=/Library/Frameworks/R.framework/Resources/library --no-vignettes --timings crisprBowtie_1.6.0.tar.gz StartedAt: 2024-03-03 19:54:32 -0500 (Sun, 03 Mar 2024) EndedAt: 2024-03-03 19:59:04 -0500 (Sun, 03 Mar 2024) EllapsedTime: 271.9 seconds RetCode: 0 Status: OK CheckDir: crisprBowtie.Rcheck Warnings: 0