Package: crisprBwa Version: 1.6.0 Command: /home/biocbuild/bbs-3.18-bioc/R/bin/R CMD build --keep-empty-dirs --no-resave-data crisprBwa StartedAt: 2024-04-15 16:38:25 -0400 (Mon, 15 Apr 2024) EndedAt: 2024-04-15 16:39:11 -0400 (Mon, 15 Apr 2024) EllapsedTime: 45.9 seconds RetCode: 0 Status: OK PackageFile: crisprBwa_1.6.0.tar.gz PackageFileSize: 359.7 KiB