Package: crisprDesign
Version: 1.4.0
Command: /Library/Frameworks/R.framework/Resources/bin/R CMD INSTALL crisprDesign
StartedAt: 2024-03-03 15:46:35 -0500 (Sun, 03 Mar 2024)
EndedAt: 2024-03-03 15:47:45 -0500 (Sun, 03 Mar 2024)
EllapsedTime: 69.4 seconds
RetCode: 0
Status: OK