Package: csaw Version: 1.36.1 Command: /Library/Frameworks/R.framework/Resources/bin/R CMD build --keep-empty-dirs --no-resave-data csaw StartedAt: 2024-04-15 17:59:31 -0400 (Mon, 15 Apr 2024) EndedAt: 2024-04-15 18:03:23 -0400 (Mon, 15 Apr 2024) EllapsedTime: 231.6 seconds RetCode: 0 Status: OK PackageFile: csaw_1.36.1.tar.gz PackageFileSize: 389 KiB